BEGIN:VCALENDAR
VERSION:2.0
PRODID:-//Washington Center for Nursing - ECPv6.15.6//NONSGML v1.0//EN
CALSCALE:GREGORIAN
METHOD:PUBLISH
X-WR-CALNAME:Washington Center for Nursing
X-ORIGINAL-URL:https://www.wcnursing.org
X-WR-CALDESC:Events for Washington Center for Nursing
REFRESH-INTERVAL;VALUE=DURATION:PT1H
X-Robots-Tag:noindex
X-PUBLISHED-TTL:PT1H
BEGIN:VTIMEZONE
TZID:America/Los_Angeles
BEGIN:DAYLIGHT
TZOFFSETFROM:-0800
TZOFFSETTO:-0700
TZNAME:PDT
DTSTART:20250309T100000
END:DAYLIGHT
BEGIN:STANDARD
TZOFFSETFROM:-0700
TZOFFSETTO:-0800
TZNAME:PST
DTSTART:20251102T090000
END:STANDARD
BEGIN:DAYLIGHT
TZOFFSETFROM:-0800
TZOFFSETTO:-0700
TZNAME:PDT
DTSTART:20260308T100000
END:DAYLIGHT
BEGIN:STANDARD
TZOFFSETFROM:-0700
TZOFFSETTO:-0800
TZNAME:PST
DTSTART:20261101T090000
END:STANDARD
BEGIN:DAYLIGHT
TZOFFSETFROM:-0800
TZOFFSETTO:-0700
TZNAME:PDT
DTSTART:20270314T100000
END:DAYLIGHT
BEGIN:STANDARD
TZOFFSETFROM:-0700
TZOFFSETTO:-0800
TZNAME:PST
DTSTART:20271107T090000
END:STANDARD
END:VTIMEZONE
BEGIN:VEVENT
DTSTART;TZID=America/Los_Angeles:20260506T000000
DTEND;TZID=America/Los_Angeles:20260506T235959
DTSTAMP:20260419T122047
CREATED:20211223T211852Z
LAST-MODIFIED:20251209T190242Z
UID:10000264-1778025600-1778111999@www.wcnursing.org
SUMMARY:National Nurses Day
DESCRIPTION:
URL:https://www.wcnursing.org/event/national-nurses-day/
END:VEVENT
BEGIN:VEVENT
DTSTART;TZID=America/Los_Angeles:20260506T000000
DTEND;TZID=America/Los_Angeles:20260506T235959
DTSTAMP:20260419T122047
CREATED:20211223T212113Z
LAST-MODIFIED:20251209T190408Z
UID:10000268-1778025600-1778111999@www.wcnursing.org
SUMMARY:School Nurse Day
DESCRIPTION:
URL:https://www.wcnursing.org/event/school-nurse-day-2/
END:VEVENT
BEGIN:VEVENT
DTSTART;TZID=America/Los_Angeles:20260506T000000
DTEND;TZID=America/Los_Angeles:20260512T235959
DTSTAMP:20260419T122047
CREATED:20211223T211932Z
LAST-MODIFIED:20251209T190312Z
UID:10000265-1778025600-1778630399@www.wcnursing.org
SUMMARY:Nurses Week!
DESCRIPTION:
URL:https://www.wcnursing.org/event/nurses-week-2/
END:VEVENT
BEGIN:VEVENT
DTSTART;TZID=America/Los_Angeles:20260510T000000
DTEND;TZID=America/Los_Angeles:20260510T235959
DTSTAMP:20260419T122047
CREATED:20211223T212044Z
LAST-MODIFIED:20251209T190443Z
UID:10000267-1778371200-1778457599@www.wcnursing.org
SUMMARY:Mother’s Day
DESCRIPTION:
URL:https://www.wcnursing.org/event/mothers-day-2/
END:VEVENT
BEGIN:VEVENT
DTSTART;TZID=America/Los_Angeles:20260510T000000
DTEND;TZID=America/Los_Angeles:20260516T235959
DTSTAMP:20260419T122047
CREATED:20211223T212014Z
LAST-MODIFIED:20251209T190507Z
UID:10000266-1778371200-1778975999@www.wcnursing.org
SUMMARY:National Women’s Health Week
DESCRIPTION:
URL:https://www.wcnursing.org/event/national-womens-health-week-2/
END:VEVENT
BEGIN:VEVENT
DTSTART;TZID=America/Los_Angeles:20260512T000000
DTEND;TZID=America/Los_Angeles:20260512T235959
DTSTAMP:20260419T122047
CREATED:20211223T212150Z
LAST-MODIFIED:20251209T190606Z
UID:10000269-1778544000-1778630399@www.wcnursing.org
SUMMARY:International Nurses Day
DESCRIPTION:
URL:https://www.wcnursing.org/event/international-nurses-day/
END:VEVENT
BEGIN:VEVENT
DTSTART;TZID=America/Los_Angeles:20260525T000000
DTEND;TZID=America/Los_Angeles:20260525T235959
DTSTAMP:20260419T122047
CREATED:20211223T212219Z
LAST-MODIFIED:20251209T190640Z
UID:10000270-1779667200-1779753599@www.wcnursing.org
SUMMARY:Memorial Day – WCN Office Closed
DESCRIPTION:
URL:https://www.wcnursing.org/event/memorial-day-wcn-office-closed-2/
END:VEVENT
BEGIN:VEVENT
DTSTART;TZID=America/Los_Angeles:20260601T000000
DTEND;TZID=America/Los_Angeles:20260630T235959
DTSTAMP:20260419T122047
CREATED:20211223T212252Z
LAST-MODIFIED:20251209T190728Z
UID:10000271-1780272000-1782863999@www.wcnursing.org
SUMMARY:LGBTQ+ Pride Month
DESCRIPTION:
URL:https://www.wcnursing.org/event/lgbtq-pride-month-2/
END:VEVENT
BEGIN:VEVENT
DTSTART;TZID=America/Los_Angeles:20260611T000000
DTEND;TZID=America/Los_Angeles:20260617T235959
DTSTAMP:20260419T122047
CREATED:20211223T212352Z
LAST-MODIFIED:20251209T190910Z
UID:10000273-1781136000-1781740799@www.wcnursing.org
SUMMARY:Nursing Assistants Week
DESCRIPTION:
URL:https://www.wcnursing.org/event/nursing-assistants-week-2/
END:VEVENT
BEGIN:VEVENT
DTSTART;TZID=America/Los_Angeles:20260612T083000
DTEND;TZID=America/Los_Angeles:20260612T093000
DTSTAMP:20260419T122047
CREATED:20210121T001215Z
LAST-MODIFIED:20251215T200325Z
UID:10000235-1781253000-1781256600@www.wcnursing.org
SUMMARY:WCN BOARD FINANCE COMMITTEE MEETING
DESCRIPTION:
URL:https://www.wcnursing.org/event/wcn-board-finance-committee-meeting-3/
CATEGORIES:Board Events
END:VEVENT
BEGIN:VEVENT
DTSTART;TZID=America/Los_Angeles:20260612T093000
DTEND;TZID=America/Los_Angeles:20260612T163000
DTSTAMP:20260419T122047
CREATED:20210121T001304Z
LAST-MODIFIED:20251215T200645Z
UID:10000237-1781256600-1781281800@www.wcnursing.org
SUMMARY:WCN BOARD OF DIRECTORS MEETING
DESCRIPTION:
URL:https://www.wcnursing.org/event/wcn-board-meeting-3/
CATEGORIES:Board Events
END:VEVENT
BEGIN:VEVENT
DTSTART;TZID=America/Los_Angeles:20260614T000000
DTEND;TZID=America/Los_Angeles:20260614T235959
DTSTAMP:20260419T122047
CREATED:20211223T212315Z
LAST-MODIFIED:20251209T190942Z
UID:10000272-1781395200-1781481599@www.wcnursing.org
SUMMARY:World Blood Donor Day
DESCRIPTION:
URL:https://www.wcnursing.org/event/world-blood-donor-day-2/
END:VEVENT
BEGIN:VEVENT
DTSTART;TZID=America/Los_Angeles:20260619T000000
DTEND;TZID=America/Los_Angeles:20260619T235959
DTSTAMP:20260419T122047
CREATED:20211223T212515Z
LAST-MODIFIED:20251209T191054Z
UID:10000275-1781827200-1781913599@www.wcnursing.org
SUMMARY:Juneteenth - WCN Office Closed
DESCRIPTION:
URL:https://www.wcnursing.org/event/juneteenth-2/
END:VEVENT
BEGIN:VEVENT
DTSTART;TZID=America/Los_Angeles:20260621T000000
DTEND;TZID=America/Los_Angeles:20260621T235959
DTSTAMP:20260419T122047
CREATED:20211223T212543Z
LAST-MODIFIED:20251209T191009Z
UID:10000276-1782000000-1782086399@www.wcnursing.org
SUMMARY:Father’s Day
DESCRIPTION:
URL:https://www.wcnursing.org/event/fathers-day-2/
END:VEVENT
BEGIN:VEVENT
DTSTART;TZID=America/Los_Angeles:20260621T000000
DTEND;TZID=America/Los_Angeles:20260621T235959
DTSTAMP:20260419T122047
CREATED:20211223T212610Z
LAST-MODIFIED:20251209T191142Z
UID:10000277-1782000000-1782086399@www.wcnursing.org
SUMMARY:Summer Solstice
DESCRIPTION:
URL:https://www.wcnursing.org/event/summer-solstice/
END:VEVENT
BEGIN:VEVENT
DTSTART;TZID=America/Los_Angeles:20260704T000000
DTEND;TZID=America/Los_Angeles:20260704T235959
DTSTAMP:20260419T122047
CREATED:20211223T212634Z
LAST-MODIFIED:20251209T191245Z
UID:10000278-1783123200-1783209599@www.wcnursing.org
SUMMARY:Independence Day – WCN Office Closed
DESCRIPTION:
URL:https://www.wcnursing.org/event/independence-day-wcn-office-closed/
END:VEVENT
BEGIN:VEVENT
DTSTART;TZID=America/Los_Angeles:20260801T000000
DTEND;TZID=America/Los_Angeles:20260831T235959
DTSTAMP:20260419T122047
CREATED:20211223T212705Z
LAST-MODIFIED:20251209T191326Z
UID:10000279-1785542400-1788220799@www.wcnursing.org
SUMMARY:National Immunization Awareness Month
DESCRIPTION:
URL:https://www.wcnursing.org/event/national-immunization-awareness-month-2/
END:VEVENT
BEGIN:VEVENT
DTSTART;TZID=America/Los_Angeles:20260826T000000
DTEND;TZID=America/Los_Angeles:20260826T235959
DTSTAMP:20260419T122047
CREATED:20211223T213055Z
LAST-MODIFIED:20251209T191353Z
UID:10000284-1787702400-1787788799@www.wcnursing.org
SUMMARY:Women’s Equality Day
DESCRIPTION:
URL:https://www.wcnursing.org/event/womens-equality-day-2/
END:VEVENT
BEGIN:VEVENT
DTSTART;TZID=America/Los_Angeles:20260901T000000
DTEND;TZID=America/Los_Angeles:20260930T235959
DTSTAMP:20260419T122047
CREATED:20211223T213155Z
LAST-MODIFIED:20251209T191505Z
UID:10000285-1788220800-1790812799@www.wcnursing.org
SUMMARY:Suicide Prevention Month
DESCRIPTION:
URL:https://www.wcnursing.org/event/suicide-prevention-month-2/
END:VEVENT
BEGIN:VEVENT
DTSTART;TZID=America/Los_Angeles:20260907T000000
DTEND;TZID=America/Los_Angeles:20260907T235959
DTSTAMP:20260419T122047
CREATED:20211223T212750Z
LAST-MODIFIED:20251209T191435Z
UID:10000280-1788739200-1788825599@www.wcnursing.org
SUMMARY:Labor Day – WCN Office Close
DESCRIPTION:
URL:https://www.wcnursing.org/event/labor-day-wcn-office-close/
END:VEVENT
BEGIN:VEVENT
DTSTART;TZID=America/Los_Angeles:20260915T080000
DTEND;TZID=America/Los_Angeles:20261015T170000
DTSTAMP:20260419T122047
CREATED:20241220T214123Z
LAST-MODIFIED:20251209T191559Z
UID:10000393-1789459200-1792083600@www.wcnursing.org
SUMMARY:Hispanic Heritage Month
DESCRIPTION:
URL:https://www.wcnursing.org/event/hispanic-heritage-month-2/
END:VEVENT
BEGIN:VEVENT
DTSTART;TZID=America/Los_Angeles:20260918T083000
DTEND;TZID=America/Los_Angeles:20260918T093000
DTSTAMP:20260419T122047
CREATED:20251215T200953Z
LAST-MODIFIED:20251215T200954Z
UID:10000406-1789720200-1789723800@www.wcnursing.org
SUMMARY:WCN BOARD FINANCE COMMITTEE MEETING
DESCRIPTION:
URL:https://www.wcnursing.org/event/wcn-board-finance-committee-meeting/
CATEGORIES:Board Events
END:VEVENT
BEGIN:VEVENT
DTSTART;TZID=America/Los_Angeles:20260918T093000
DTEND;TZID=America/Los_Angeles:20260918T163000
DTSTAMP:20260419T122047
CREATED:20211223T212956Z
LAST-MODIFIED:20251215T200722Z
UID:10000283-1789723800-1789749000@www.wcnursing.org
SUMMARY:WCN BOARD OF DIRECTORS MEETING
DESCRIPTION:
URL:https://www.wcnursing.org/event/wcn-board-of-directors-meeting-3/
CATEGORIES:Board Events
END:VEVENT
BEGIN:VEVENT
DTSTART;TZID=America/Los_Angeles:20260920T000000
DTEND;TZID=America/Los_Angeles:20260921T235959
DTSTAMP:20260419T122047
CREATED:20211223T213426Z
LAST-MODIFIED:20251209T232340Z
UID:10000289-1789862400-1790035199@www.wcnursing.org
SUMMARY:Yom Kippur
DESCRIPTION:
URL:https://www.wcnursing.org/event/yom-kippur/
END:VEVENT
BEGIN:VEVENT
DTSTART;TZID=America/Los_Angeles:20260923T000000
DTEND;TZID=America/Los_Angeles:20260923T235959
DTSTAMP:20260419T122047
CREATED:20211223T212825Z
LAST-MODIFIED:20251209T191743Z
UID:10000281-1790121600-1790207999@www.wcnursing.org
SUMMARY:Fall Equinox - First Day of Fall
DESCRIPTION:
URL:https://www.wcnursing.org/event/first-day-of-fall/
END:VEVENT
BEGIN:VEVENT
DTSTART;TZID=America/Los_Angeles:20261001T000000
DTEND;TZID=America/Los_Angeles:20261031T235959
DTSTAMP:20260419T122047
CREATED:20211223T213226Z
LAST-MODIFIED:20251209T232407Z
UID:10000286-1790812800-1793491199@www.wcnursing.org
SUMMARY:Domestic Violence Awareness Month
DESCRIPTION:
URL:https://www.wcnursing.org/event/domestic-violence-awareness-month-2/
END:VEVENT
BEGIN:VEVENT
DTSTART;TZID=America/Los_Angeles:20261001T080000
DTEND;TZID=America/Los_Angeles:20261031T170000
DTSTAMP:20260419T122047
CREATED:20241220T214904Z
LAST-MODIFIED:20251209T232436Z
UID:10000394-1790841600-1793466000@www.wcnursing.org
SUMMARY:National Substance Use Prevention Month
DESCRIPTION:
URL:https://www.wcnursing.org/event/national-substance-use-prevention-month/
END:VEVENT
BEGIN:VEVENT
DTSTART;TZID=America/Los_Angeles:20261004T000000
DTEND;TZID=America/Los_Angeles:20261010T235959
DTSTAMP:20260419T122047
CREATED:20211223T213310Z
LAST-MODIFIED:20251209T232507Z
UID:10000287-1791072000-1791676799@www.wcnursing.org
SUMMARY:National Midwifery Week
DESCRIPTION:
URL:https://www.wcnursing.org/event/national-midwifery-week/
END:VEVENT
BEGIN:VEVENT
DTSTART;TZID=America/Los_Angeles:20261004T000000
DTEND;TZID=America/Los_Angeles:20261010T235959
DTSTAMP:20260419T122047
CREATED:20211223T213341Z
LAST-MODIFIED:20251209T232700Z
UID:10000288-1791072000-1791676799@www.wcnursing.org
SUMMARY:Mental Illness Awareness Week
DESCRIPTION:
URL:https://www.wcnursing.org/event/mental-illness-awareness-week-2/
END:VEVENT
BEGIN:VEVENT
DTSTART;TZID=America/Los_Angeles:20261012T000000
DTEND;TZID=America/Los_Angeles:20261012T235959
DTSTAMP:20260419T122047
CREATED:20211223T213538Z
LAST-MODIFIED:20251209T232827Z
UID:10000291-1791763200-1791849599@www.wcnursing.org
SUMMARY:Indigenous Peoples’ Day
DESCRIPTION:
URL:https://www.wcnursing.org/event/indigenous-peoples-day-2/
END:VEVENT
END:VCALENDAR